BEGIN:VCALENDAR
VERSION:2.0
PRODID:-//Tukios.com/
BEGIN:VEVENT
UID:2a91ed3c-80a0-4620-b688-19fe66051edd@www.floydmortuary.com
DTSTAMP:20260420T212407Z
DTSTART:20260423T140000Z
DTEND:20260423T150000Z
SUMMARY:Graveside Service
DESCRIPTION:
URL:https://www.floydmortuary.com/obituaries/richard-stacey
LOCATION:Greenlawn Memorial Gardens 1300 Fernwood Glendale Rd  
	Spartanburg SC 29307
GEO:34.966706;-81.884675
END:VEVENT
END:VCALENDAR