BEGIN:VCALENDAR
VERSION:2.0
PRODID:-//Tukios.com/
BEGIN:VEVENT
UID:9f7dbe87-2739-4f80-bfaf-601c4785105c@www.floydmortuary.com
DTSTAMP:20260420T195911Z
DTSTART:20260424T170000Z
DTEND:20260424T180000Z
SUMMARY:Funeral Service
DESCRIPTION:
URL:https://www.floydmortuary.com/obituaries/myra-webber
LOCATION:Floyd’s Greenlawn Chapel 2075 East Main Street  Spartanburg SC 
	29307
GEO:34.9704894;-81.8858882
END:VEVENT
END:VCALENDAR