BEGIN:VCALENDAR
VERSION:2.0
PRODID:-//Tukios.com/
BEGIN:VEVENT
UID:1c3563c0-81dc-4850-9199-efd631b302e3@www.floydmortuary.com
DTSTAMP:20260420T195819Z
DTSTART:20260423T220000Z
DTEND:20260424T000000Z
SUMMARY:Visitation
DESCRIPTION:
URL:https://www.floydmortuary.com/obituaries/myra-webber
LOCATION:Floyd’s Greenlawn Chapel 2075 East Main Street  Spartanburg SC 
	29307
GEO:34.9704894;-81.8858882
END:VEVENT
END:VCALENDAR