BEGIN:VCALENDAR
VERSION:2.0
PRODID:-//Tukios.com/
BEGIN:VEVENT
UID:ce153d65-0035-4f0f-8ebc-9059a883fd86@www.floydmortuary.com
DTSTAMP:20260422T021128Z
DTSTART:20260425T160000Z
DTEND:20260425T170000Z
SUMMARY:Graveside Service
DESCRIPTION:
URL:https://www.floydmortuary.com/obituaries/freida-toney
LOCATION:Greenlawn Memorial Gardens 1300 Fernwood Glendale Rd  
	Spartanburg SC 29307
GEO:34.966706;-81.884675
END:VEVENT
END:VCALENDAR