BEGIN:VCALENDAR
VERSION:2.0
PRODID:-//Tukios.com/
BEGIN:VEVENT
UID:18c8139c-4549-4047-a53d-562a3d260a17@www.floydmortuary.com
DTSTAMP:20260422T021805Z
DTSTART:20260424T220000Z
DTEND:20260425T000000Z
SUMMARY:Visitation
DESCRIPTION:
URL:https://www.floydmortuary.com/obituaries/freida-toney
LOCATION:Floyd’s Greenlawn Chapel 2075 East Main Street  Spartanburg SC 
	29307
GEO:34.9704894;-81.8858882
END:VEVENT
END:VCALENDAR